BEGIN:VCALENDAR
VERSION:2.0
PRODID:-//TEAM Engineering Ltd - ECPv4.6.26.1//NONSGML v1.0//EN
CALSCALE:GREGORIAN
METHOD:PUBLISH
X-WR-CALNAME:TEAM Engineering Ltd
X-ORIGINAL-URL:https://team-eng.com
X-WR-CALDESC:Events for TEAM Engineering Ltd
BEGIN:VEVENT
DTSTART;VALUE=DATE:20190729
DTEND;VALUE=DATE:20190802
DTSTAMP:20260425T162224
CREATED:20190102T201758Z
LAST-MODIFIED:20190619T105419Z
UID:4777-1564358400-1564703999@team-eng.com
SUMMARY:NX Design Essentials Training
DESCRIPTION: \nNX Design Essentials – 4 days\nLearn to model\, assemble and produce drawings efficiently in NX. \n  \nWhy your Engineers should train with TEAM\nBy training with us\, you can learn from the UK’s best Technical Team across a range of versatile Training courses. We understand and listen to every client’s needs and ensure all training delivered reaches the high standards we pride ourselves on consistently providing. That’s why our trainee surveys show a customer success rating of 98% across all courses. \nWe also offer bespoke training that can be tailored to fit your exact engineering or business needs. \n
URL:https://team-eng.com/event/nx-design-essentials-training-29-07-19/
CATEGORIES:Training
ATTACH;FMTTYPE=image/png:https://team-eng.com/wp-content/uploads/2012/11/intro-tablet-1-1.png
END:VEVENT
END:VCALENDAR