BEGIN:VCALENDAR
VERSION:2.0
PRODID:-//TEAM Engineering Ltd - ECPv4.6.26.1//NONSGML v1.0//EN
CALSCALE:GREGORIAN
METHOD:PUBLISH
X-WR-CALNAME:TEAM Engineering Ltd
X-ORIGINAL-URL:https://team-eng.com
X-WR-CALDESC:Events for TEAM Engineering Ltd
BEGIN:VEVENT
DTSTART;VALUE=DATE:20190611
DTEND;VALUE=DATE:20190614
DTSTAMP:20260425T193410
CREATED:20180328T161848Z
LAST-MODIFIED:20190530T155639Z
UID:4563-1560211200-1560470399@team-eng.com
SUMMARY:FEMAP Essentials Training
DESCRIPTION:This course provides the Engineer new to FEMAP with a substantial introduction to the software\, its structure\, capabilities\, and how to take advantage of its efficiency and strengths. For the engineer who already is using FEMAP\, this course will fill in the grey areas\, provide important time-saving knowledge\, and guide them on their way to becoming a FEMAP expert. \nThe course includes: \n\nFEMAP user interface and on-line help\nMaterials and properties\nBuilding geometry\nMeshing geometry\nImporting and modifying geometry\nLoads and boundary conditions\nModel organization\nVisualizing and documenting results\nAssembly modeling\nSpecialized in-depth training\n\n\nClick here to view Agenda.\n
URL:https://team-eng.com/event/femap-essentials-training-2-2/
CATEGORIES:Training
ATTACH;FMTTYPE=image/png:https://team-eng.com/wp-content/uploads/2016/02/femap-small-website-header.png
END:VEVENT
BEGIN:VEVENT
DTSTART;TZID=UTC+0:20190611T090000
DTEND;TZID=UTC+0:20190614T170000
DTSTAMP:20260425T193410
CREATED:20190530T151108Z
LAST-MODIFIED:20190530T151108Z
UID:5429-1560243600-1560531600@team-eng.com
SUMMARY:NX CAM Essentials Training
DESCRIPTION:4 Day Training course covering: \nDay 1 – Essentials NX\, Essentials CAM (prismatic parts\, tool library\, simulation etc) \nDay 2 – 3- axis Milling operations for non-prismatic parts \nDay 3 – 3 + 1\, 3 + 2 milling\, IPW considerations \nDay 4 – 5-axis simultaneous milling operations \n
URL:https://team-eng.com/event/nx-cam-essentials-training/
CATEGORIES:Training
ATTACH;FMTTYPE=image/png:https://team-eng.com/wp-content/uploads/2016/02/nx-cam-small-website-header-e1564499795742.png
ORGANIZER;CN="Michael%20Smith":MAILTO:sales@team-eng.com
END:VEVENT
END:VCALENDAR