BEGIN:VCALENDAR
VERSION:2.0
PRODID:-//TEAM Engineering Ltd - ECPv4.6.26.1//NONSGML v1.0//EN
CALSCALE:GREGORIAN
METHOD:PUBLISH
X-WR-CALNAME:TEAM Engineering Ltd
X-ORIGINAL-URL:https://team-eng.com
X-WR-CALDESC:Events for TEAM Engineering Ltd
BEGIN:VEVENT
DTSTART;VALUE=DATE:20191104
DTEND;VALUE=DATE:20191107
DTSTAMP:20260420T043857
CREATED:20190103T121905Z
LAST-MODIFIED:20190906T101441Z
UID:4796-1572825600-1573084799@team-eng.com
SUMMARY:NX CAM - Introduction to 3 Axis Milling Training
DESCRIPTION:NX CAM – Introduction to 3 Axis Milling – 3 days\nLearn how to generate of tool paths for 3-axis milling and drilling applications. \n  \nWhy your Engineers should train with TEAM\nBy training with us\, you can learn from the UK’s best Technical Team across a range of versatile Training courses. We understand and listen to every client’s needs and ensure all training delivered reaches the high standards we pride ourselves on consistently providing. That’s why our trainee surveys show a customer success rating of 98% across all courses. \nWe also offer bespoke training that can be tailored to fit your exact engineering or business needs. \n
URL:https://team-eng.com/event/nx-cam-3axis-milling-training-05-11-19/
CATEGORIES:Training
ATTACH;FMTTYPE=image/jpeg:https://team-eng.com/wp-content/uploads/2012/11/nx-cam-home-1.jpg
END:VEVENT
END:VCALENDAR