BEGIN:VCALENDAR
VERSION:2.0
PRODID:-//TEAM Engineering Ltd - ECPv4.6.26.1//NONSGML v1.0//EN
CALSCALE:GREGORIAN
METHOD:PUBLISH
X-WR-CALNAME:TEAM Engineering Ltd
X-ORIGINAL-URL:https://team-eng.com
X-WR-CALDESC:Events for TEAM Engineering Ltd
BEGIN:VEVENT
DTSTART;TZID=UTC+0:20180823T100000
DTEND;TZID=UTC+0:20180823T153000
DTSTAMP:20260425T112218
CREATED:20180222T110803Z
LAST-MODIFIED:20180222T110803Z
UID:4516-1535018400-1535038200@team-eng.com
SUMMARY:Teamcenter PLM Workshop
DESCRIPTION:Agenda coming soon. \nClick here to register early. \n
URL:https://team-eng.com/event/teamcenter-workshop-2/
CATEGORIES:Workshops
END:VEVENT
BEGIN:VEVENT
DTSTART;TZID=UTC+0:20180823T100000
DTEND;TZID=UTC+0:20180823T153000
DTSTAMP:20260425T112218
CREATED:20180222T110803Z
LAST-MODIFIED:20180222T110803Z
UID:5245-1535018400-1535038200@team-eng.com
SUMMARY:Teamcenter PLM Workshop
DESCRIPTION:Agenda coming soon. \nClick here to register early. \n
URL:https://team-eng.com/event/teamcenter-workshop-2-2/
CATEGORIES:Workshops
END:VEVENT
END:VCALENDAR