BEGIN:VCALENDAR
VERSION:2.0
PRODID:-//TEAM Engineering Ltd - ECPv4.6.26.1//NONSGML v1.0//EN
CALSCALE:GREGORIAN
METHOD:PUBLISH
X-WR-CALNAME:TEAM Engineering Ltd
X-ORIGINAL-URL:https://team-eng.com
X-WR-CALDESC:Events for TEAM Engineering Ltd
BEGIN:VEVENT
DTSTART;TZID=UTC+0:20180725T140000
DTEND;TZID=UTC+0:20180725T143000
DTSTAMP:20260425T123235
CREATED:20180615T135554Z
LAST-MODIFIED:20180615T135554Z
UID:4660-1532527200-1532529000@team-eng.com
SUMMARY:NX Advanced Assemblies Webinar
DESCRIPTION:Agenda coming soon. \n
URL:https://team-eng.com/event/nx-advanced-assemblies-webinar/
CATEGORIES:Webinars
END:VEVENT
BEGIN:VEVENT
DTSTART;TZID=UTC+0:20180725T140000
DTEND;TZID=UTC+0:20180725T143000
DTSTAMP:20260425T123235
CREATED:20180615T135554Z
LAST-MODIFIED:20180615T135554Z
UID:5252-1532527200-1532529000@team-eng.com
SUMMARY:NX Advanced Assemblies Webinar
DESCRIPTION:Agenda coming soon. \n
URL:https://team-eng.com/event/nx-advanced-assemblies-webinar-2/
CATEGORIES:Webinars
END:VEVENT
END:VCALENDAR