BEGIN:VCALENDAR
VERSION:2.0
PRODID:-//TEAM Engineering Ltd - ECPv4.6.26.1//NONSGML v1.0//EN
CALSCALE:GREGORIAN
METHOD:PUBLISH
X-WR-CALNAME:TEAM Engineering Ltd
X-ORIGINAL-URL:https://team-eng.com
X-WR-CALDESC:Events for TEAM Engineering Ltd
BEGIN:VEVENT
DTSTART;VALUE=DATE:20180716
DTEND;VALUE=DATE:20180720
DTSTAMP:20260425T124157
CREATED:20171128T151211Z
LAST-MODIFIED:20171128T151211Z
UID:4307-1531699200-1532044799@team-eng.com
SUMMARY:NX Design Essentials Training
DESCRIPTION:
URL:https://team-eng.com/event/nx-design-essentials-training-18-6-2/
CATEGORIES:Training
END:VEVENT
BEGIN:VEVENT
DTSTART;VALUE=DATE:20180716
DTEND;VALUE=DATE:20180720
DTSTAMP:20260425T124157
CREATED:20171128T151211Z
LAST-MODIFIED:20171128T151211Z
UID:5223-1531699200-1532044799@team-eng.com
SUMMARY:NX Design Essentials Training
DESCRIPTION:
URL:https://team-eng.com/event/nx-design-essentials-training-18-6-2-2/
CATEGORIES:Training
END:VEVENT
END:VCALENDAR