BEGIN:VCALENDAR
VERSION:2.0
PRODID:-//TEAM Engineering Ltd - ECPv4.6.26.1//NONSGML v1.0//EN
CALSCALE:GREGORIAN
METHOD:PUBLISH
X-WR-CALNAME:TEAM Engineering Ltd
X-ORIGINAL-URL:https://team-eng.com
X-WR-CALDESC:Events for TEAM Engineering Ltd
BEGIN:VEVENT
DTSTART;TZID=UTC+0:20180613T140000
DTEND;TZID=UTC+0:20180613T143000
DTSTAMP:20260425T140930
CREATED:20180221T173745Z
LAST-MODIFIED:20180221T173745Z
UID:4500-1528898400-1528900200@team-eng.com
SUMMARY:Mechatronics Concept Design Webinar
DESCRIPTION:Mechatronics Concept Design Webinar\nWednesday 13th June\, 14:00pm (London GMT) \nMechatronics Concept Designer brings teams together by facilitating the integration of engineering departments\, including requirements management\, concept design\, mechanical design\, electrical design and software/automation engineering. The advanced engineering tool is open and can be used with all major CAD platforms. With this feature\, you can: \n* Get to market faster by reducing Machine development time up to 30%\n* Rapidly evaluate machine concepts in a virtual environment\n* Enhance collaboration among mechanical\, electrical and automation designers\n* Build fewer physical prototypes \nOur Live webinar will provide you with an overview of this new feature and allow you to ask any questions you may have during a Live Q&A session. \nClick here to register now to guarantee your place. \n
URL:https://team-eng.com/event/mechatronics-concept-design-webinar/
CATEGORIES:Webinars
END:VEVENT
BEGIN:VEVENT
DTSTART;TZID=UTC+0:20180613T140000
DTEND;TZID=UTC+0:20180613T143000
DTSTAMP:20260425T140931
CREATED:20180221T173745Z
LAST-MODIFIED:20180221T173745Z
UID:5239-1528898400-1528900200@team-eng.com
SUMMARY:Mechatronics Concept Design Webinar
DESCRIPTION:Mechatronics Concept Design Webinar\nWednesday 13th June\, 14:00pm (London GMT) \nMechatronics Concept Designer brings teams together by facilitating the integration of engineering departments\, including requirements management\, concept design\, mechanical design\, electrical design and software/automation engineering. The advanced engineering tool is open and can be used with all major CAD platforms. With this feature\, you can: \n* Get to market faster by reducing Machine development time up to 30%\n* Rapidly evaluate machine concepts in a virtual environment\n* Enhance collaboration among mechanical\, electrical and automation designers\n* Build fewer physical prototypes \nOur Live webinar will provide you with an overview of this new feature and allow you to ask any questions you may have during a Live Q&A session. \nClick here to register now to guarantee your place. \n
URL:https://team-eng.com/event/mechatronics-concept-design-webinar-3/
CATEGORIES:Webinars
END:VEVENT
END:VCALENDAR