BEGIN:VCALENDAR
VERSION:2.0
PRODID:-//TEAM Engineering Ltd - ECPv4.6.26.1//NONSGML v1.0//EN
CALSCALE:GREGORIAN
METHOD:PUBLISH
X-WR-CALNAME:TEAM Engineering Ltd
X-ORIGINAL-URL:https://team-eng.com
X-WR-CALDESC:Events for TEAM Engineering Ltd
BEGIN:VEVENT
DTSTART;VALUE=DATE:20180605
DTEND;VALUE=DATE:20180608
DTSTAMP:20260425T140714
CREATED:20180102T145350Z
LAST-MODIFIED:20180102T145350Z
UID:4396-1528156800-1528415999@team-eng.com
SUMMARY:NX CAM-Essentials
DESCRIPTION:Course Overview\nThe NX Manufacturing Fundamentals course is designed to expedite the student learning experience\nin the generation of tool paths for 2 and 3-axis milling and drilling applications. \nAs with each course developed and taught by Siemens PLM Software professionals\, this class\nreinforces Siemens PLM’s intimate knowledge of software’s developments and instructs the students\nbased on the underlying principles incorporated within the NX product suite. \nCourse Agenda: 3 Days \nIntroduction and Overview\nPlanar/Cavity Milling\nPart analysis for manufacturing\nDrilling\nUser interface\nFixed Contour Area Milling\nOperation Navigator\nFace Milling\nMachine Coordinate system\nText Engraving\nVisualization/Verification\nTooling\nPost Processing/Shop documentation \n
URL:https://team-eng.com/event/nx-cam-essentials-2/
CATEGORIES:Training
END:VEVENT
BEGIN:VEVENT
DTSTART;VALUE=DATE:20180605
DTEND;VALUE=DATE:20180608
DTSTAMP:20260425T140714
CREATED:20180102T145350Z
LAST-MODIFIED:20180102T145350Z
UID:5230-1528156800-1528415999@team-eng.com
SUMMARY:NX CAM-Essentials
DESCRIPTION:Course Overview\nThe NX Manufacturing Fundamentals course is designed to expedite the student learning experience\nin the generation of tool paths for 2 and 3-axis milling and drilling applications. \nAs with each course developed and taught by Siemens PLM Software professionals\, this class\nreinforces Siemens PLM’s intimate knowledge of software’s developments and instructs the students\nbased on the underlying principles incorporated within the NX product suite. \nCourse Agenda: 3 Days \nIntroduction and Overview\nPlanar/Cavity Milling\nPart analysis for manufacturing\nDrilling\nUser interface\nFixed Contour Area Milling\nOperation Navigator\nFace Milling\nMachine Coordinate system\nText Engraving\nVisualization/Verification\nTooling\nPost Processing/Shop documentation \n
URL:https://team-eng.com/event/nx-cam-essentials-2-3/
CATEGORIES:Training
END:VEVENT
END:VCALENDAR