BEGIN:VCALENDAR
VERSION:2.0
PRODID:-//TEAM Engineering Ltd - ECPv4.6.26.1//NONSGML v1.0//EN
CALSCALE:GREGORIAN
METHOD:PUBLISH
X-WR-CALNAME:TEAM Engineering Ltd
X-ORIGINAL-URL:https://team-eng.com
X-WR-CALDESC:Events for TEAM Engineering Ltd
BEGIN:VEVENT
DTSTART;VALUE=DATE:20180416
DTEND;VALUE=DATE:20180420
DTSTAMP:20260425T171353
CREATED:20171128T143158Z
LAST-MODIFIED:20171128T143158Z
UID:4301-1523836800-1524182399@team-eng.com
SUMMARY:NX Design Essentials Training
DESCRIPTION:
URL:https://team-eng.com/event/nx-design-essentials-training-7-2-2-2-2/
CATEGORIES:Training
END:VEVENT
BEGIN:VEVENT
DTSTART;VALUE=DATE:20180416
DTEND;VALUE=DATE:20180420
DTSTAMP:20260425T171353
CREATED:20171128T143158Z
LAST-MODIFIED:20171128T143158Z
UID:5220-1523836800-1524182399@team-eng.com
SUMMARY:NX Design Essentials Training
DESCRIPTION:
URL:https://team-eng.com/event/nx-design-essentials-training-7-2-2-2-2-2/
CATEGORIES:Training
END:VEVENT
BEGIN:VEVENT
DTSTART;VALUE=DATE:20180417
DTEND;VALUE=DATE:20180420
DTSTAMP:20260425T171353
CREATED:20180328T161848Z
LAST-MODIFIED:20180328T161848Z
UID:5247-1523923200-1524182399@team-eng.com
SUMMARY:FEMAP Essentials Training
DESCRIPTION:
URL:https://team-eng.com/event/femap-essentials-training-2-2-2/
CATEGORIES:Training
END:VEVENT
END:VCALENDAR