BEGIN:VCALENDAR
VERSION:2.0
PRODID:-//TEAM Engineering Ltd - ECPv4.6.26.1//NONSGML v1.0//EN
CALSCALE:GREGORIAN
METHOD:PUBLISH
X-WR-CALNAME:TEAM Engineering Ltd
X-ORIGINAL-URL:https://team-eng.com
X-WR-CALDESC:Events for TEAM Engineering Ltd
BEGIN:VEVENT
DTSTART;TZID=UTC+0:20180318T100000
DTEND;TZID=UTC+0:20180318T150000
DTSTAMP:20260425T185428
CREATED:20180221T172645Z
LAST-MODIFIED:20180221T172645Z
UID:4495-1521367200-1521385200@team-eng.com
SUMMARY:FloEFD Workshop
DESCRIPTION:Agenda coming soon. \nClick here to register early. \n
URL:https://team-eng.com/event/floefd-workshop/
CATEGORIES:Workshops
END:VEVENT
BEGIN:VEVENT
DTSTART;TZID=UTC+0:20180318T100000
DTEND;TZID=UTC+0:20180318T150000
DTSTAMP:20260425T185428
CREATED:20180221T172645Z
LAST-MODIFIED:20180221T172645Z
UID:5237-1521367200-1521385200@team-eng.com
SUMMARY:FloEFD Workshop
DESCRIPTION:Agenda coming soon. \nClick here to register early. \n
URL:https://team-eng.com/event/floefd-workshop-2/
CATEGORIES:Workshops
END:VEVENT
END:VCALENDAR