BEGIN:VCALENDAR
VERSION:2.0
PRODID:-//TEAM Engineering Ltd - ECPv4.6.26.1//NONSGML v1.0//EN
CALSCALE:GREGORIAN
METHOD:PUBLISH
X-WR-CALNAME:TEAM Engineering Ltd
X-ORIGINAL-URL:https://team-eng.com
X-WR-CALDESC:Events for TEAM Engineering Ltd
BEGIN:VEVENT
DTSTART;TZID=UTC+0:20180315T133000
DTEND;TZID=UTC+0:20180315T140000
DTSTAMP:20260425T191229
CREATED:20180221T155813Z
LAST-MODIFIED:20180221T155813Z
UID:4490-1521120600-1521122400@team-eng.com
SUMMARY:Topology Optimisation Webinar
DESCRIPTION:\n\nTopology Optimisation Webinar\nThursday 15th March\, 13:30pm (London GMT) \nLearn all about Generative Design. Designers define a specific material\, design space\, permissible loads and constraints and a target weight\, and the software automatically computes the geometric solution. These results can be immediately manufactured on 3D printers. \nOur Live webinar will provide you with an overview of this new feature (new feature demonstrated on Siemens NX) and allow you to ask any questions you may have during a Live Q&A session about Topology optimisation. Register now to guarantee your place. \n\n\n\nREGISTER HERE\n\n
URL:https://team-eng.com/event/topology-optimisation-webinar/
CATEGORIES:Webinars
ATTACH;FMTTYPE=image/png:https://team-eng.com/wp-content/uploads/2018/02/topology-optimisation-image-email-1-e1520947596775.png
END:VEVENT
BEGIN:VEVENT
DTSTART;TZID=UTC+0:20180315T133000
DTEND;TZID=UTC+0:20180315T140000
DTSTAMP:20260425T191229
CREATED:20180221T155813Z
LAST-MODIFIED:20180221T155813Z
UID:5235-1521120600-1521122400@team-eng.com
SUMMARY:Topology Optimisation Webinar
DESCRIPTION:\n\nTopology Optimisation Webinar\nThursday 15th March\, 13:30pm (London GMT) \nLearn all about Generative Design. Designers define a specific material\, design space\, permissible loads and constraints and a target weight\, and the software automatically computes the geometric solution. These results can be immediately manufactured on 3D printers. \nOur Live webinar will provide you with an overview of this new feature (new feature demonstrated on Siemens NX) and allow you to ask any questions you may have during a Live Q&A session about Topology optimisation. Register now to guarantee your place. \n\n\n\nREGISTER HERE\n\n
URL:https://team-eng.com/event/topology-optimisation-webinar-3/
CATEGORIES:Webinars
ATTACH;FMTTYPE=image/png:https://team-eng.com/wp-content/uploads/2018/02/topology-optimisation-image-email-1-e1520947596775.png
END:VEVENT
END:VCALENDAR