BEGIN:VCALENDAR
VERSION:2.0
PRODID:-//TEAM Engineering Ltd - ECPv4.6.26.1//NONSGML v1.0//EN
CALSCALE:GREGORIAN
METHOD:PUBLISH
X-WR-CALNAME:TEAM Engineering Ltd
X-ORIGINAL-URL:https://team-eng.com
X-WR-CALDESC:Events for TEAM Engineering Ltd
BEGIN:VEVENT
DTSTART;VALUE=DATE:20180115
DTEND;VALUE=DATE:20180119
DTSTAMP:20260425T222256
CREATED:20171128T141832Z
LAST-MODIFIED:20171128T141832Z
UID:4295-1515974400-1516319999@team-eng.com
SUMMARY:NX Design Essentials Training
DESCRIPTION:
URL:https://team-eng.com/event/nx-design-essentials-training-7-2/
CATEGORIES:Training
END:VEVENT
BEGIN:VEVENT
DTSTART;VALUE=DATE:20180115
DTEND;VALUE=DATE:20180119
DTSTAMP:20260425T222256
CREATED:20171128T141832Z
LAST-MODIFIED:20171128T141832Z
UID:5217-1515974400-1516319999@team-eng.com
SUMMARY:NX Design Essentials Training
DESCRIPTION:
URL:https://team-eng.com/event/nx-design-essentials-training-7-2-3/
CATEGORIES:Training
END:VEVENT
END:VCALENDAR