BEGIN:VCALENDAR
VERSION:2.0
PRODID:-//TEAM Engineering Ltd - ECPv4.6.26.1//NONSGML v1.0//EN
CALSCALE:GREGORIAN
METHOD:PUBLISH
X-WR-CALNAME:TEAM Engineering Ltd
X-ORIGINAL-URL:https://team-eng.com
X-WR-CALDESC:Events for TEAM Engineering Ltd
BEGIN:VEVENT
DTSTART;TZID=UTC+0:20171208T090000
DTEND;TZID=UTC+0:20171208T170000
DTSTAMP:20260425T234356
CREATED:20171128T115947Z
LAST-MODIFIED:20171128T115947Z
UID:4292-1512723600-1512752400@team-eng.com
SUMMARY:NX Surfacing Training
DESCRIPTION:
URL:https://team-eng.com/event/nx-surfacing-training-8-12/
CATEGORIES:Training
END:VEVENT
BEGIN:VEVENT
DTSTART;TZID=UTC+0:20171208T090000
DTEND;TZID=UTC+0:20171208T170000
DTSTAMP:20260425T234356
CREATED:20171128T115947Z
LAST-MODIFIED:20171128T115947Z
UID:5216-1512723600-1512752400@team-eng.com
SUMMARY:NX Surfacing Training
DESCRIPTION:
URL:https://team-eng.com/event/nx-surfacing-training-8-12-2/
CATEGORIES:Training
END:VEVENT
END:VCALENDAR