BEGIN:VCALENDAR
VERSION:2.0
PRODID:-//TEAM Engineering Ltd - ECPv4.6.26.1//NONSGML v1.0//EN
CALSCALE:GREGORIAN
METHOD:PUBLISH
X-WR-CALNAME:TEAM Engineering Ltd
X-ORIGINAL-URL:https://team-eng.com
X-WR-CALDESC:Events for TEAM Engineering Ltd
BEGIN:VEVENT
DTSTART;TZID=UTC+0:20171116T100000
DTEND;TZID=UTC+0:20171116T160000
DTSTAMP:20260426T014607
CREATED:20170306T165802Z
LAST-MODIFIED:20170306T165802Z
UID:3487-1510826400-1510848000@team-eng.com
SUMMARY:Siemens NX Workshop
DESCRIPTION:
URL:https://team-eng.com/event/siemens-nx-workshop/
CATEGORIES:Workshops
END:VEVENT
BEGIN:VEVENT
DTSTART;TZID=UTC+0:20171116T100000
DTEND;TZID=UTC+0:20171116T160000
DTSTAMP:20260426T014607
CREATED:20170306T165802Z
LAST-MODIFIED:20170306T165802Z
UID:5189-1510826400-1510848000@team-eng.com
SUMMARY:Siemens NX Workshop
DESCRIPTION:
URL:https://team-eng.com/event/siemens-nx-workshop-2/
CATEGORIES:Workshops
END:VEVENT
END:VCALENDAR