BEGIN:VCALENDAR
VERSION:2.0
PRODID:-//TEAM Engineering Ltd - ECPv4.6.26.1//NONSGML v1.0//EN
CALSCALE:GREGORIAN
METHOD:PUBLISH
X-WR-CALNAME:TEAM Engineering Ltd
X-ORIGINAL-URL:https://team-eng.com
X-WR-CALDESC:Events for TEAM Engineering Ltd
BEGIN:VEVENT
DTSTART;VALUE=DATE:20171019
DTEND;VALUE=DATE:20171021
DTSTAMP:20260426T024121
CREATED:20170308T175814Z
LAST-MODIFIED:20170308T175814Z
UID:3556-1508371200-1508543999@team-eng.com
SUMMARY:Simcenter Advanced Simulation Solutions training
DESCRIPTION:
URL:https://team-eng.com/event/simcenter-advanced-simulation-solutions/
CATEGORIES:Training
END:VEVENT
BEGIN:VEVENT
DTSTART;VALUE=DATE:20171019
DTEND;VALUE=DATE:20171021
DTSTAMP:20260426T024121
CREATED:20170308T175814Z
LAST-MODIFIED:20170308T175814Z
UID:5201-1508371200-1508543999@team-eng.com
SUMMARY:Simcenter Advanced Simulation Solutions training
DESCRIPTION:
URL:https://team-eng.com/event/simcenter-advanced-simulation-solutions-2/
CATEGORIES:Training
END:VEVENT
END:VCALENDAR