BEGIN:VCALENDAR
VERSION:2.0
PRODID:-//TEAM Engineering Ltd - ECPv4.6.26.1//NONSGML v1.0//EN
CALSCALE:GREGORIAN
METHOD:PUBLISH
X-WR-CALNAME:TEAM Engineering Ltd
X-ORIGINAL-URL:https://team-eng.com
X-WR-CALDESC:Events for TEAM Engineering Ltd
BEGIN:VEVENT
DTSTART;VALUE=DATE:20171016
DTEND;VALUE=DATE:20171019
DTSTAMP:20260426T024241
CREATED:20170308T175618Z
LAST-MODIFIED:20170308T175618Z
UID:3553-1508112000-1508371199@team-eng.com
SUMMARY:Simcenter Advanced Simulation Processes
DESCRIPTION:
URL:https://team-eng.com/event/simcenter-advanced-simulation-processes/
CATEGORIES:Training
END:VEVENT
BEGIN:VEVENT
DTSTART;VALUE=DATE:20171016
DTEND;VALUE=DATE:20171019
DTSTAMP:20260426T024241
CREATED:20170308T175618Z
LAST-MODIFIED:20170308T175618Z
UID:5200-1508112000-1508371199@team-eng.com
SUMMARY:Simcenter Advanced Simulation Processes
DESCRIPTION:
URL:https://team-eng.com/event/simcenter-advanced-simulation-processes-2/
CATEGORIES:Training
END:VEVENT
BEGIN:VEVENT
DTSTART;TZID=UTC+0:20171018T100000
DTEND;TZID=UTC+0:20171018T153000
DTSTAMP:20260426T024241
CREATED:20171003T094515Z
LAST-MODIFIED:20171003T094515Z
UID:3971-1508320800-1508340600@team-eng.com
SUMMARY:Simulation in Engineering: Live Event
DESCRIPTION:Simulation in Engineering: Live Event\nDelve deeper into Simulation technologies by attending our Live event held at Land Rover BAR. \nDuring the day we will explore Simulation principles and learn more about the impact each plays in industry. From safety to optimisation\, simulation plays a pivotal role in product development. Industry focused examples will be explored. \nThis event will act as an opportunity to explore what’s new in FEA as we demonstrate the new Femap 11.4 release and show you its powerful analysis tools. We will then delve into composites simulation and finish with how your simulation data can be managed and controlled within a PDM/PLM environment. \nAfter lunch we will then take a 1 hour tour around Land Rover BAR\, the home of the British America’s Cup team giving you a unique behind-the-scenes experience with hands-on interactive experiences\, enabling you to get close to the boats\, people\, and technologies in development that will allow the team to fly faster and sail smarter. \nAGENDA \n10:00 – 10:15 – Arrival\n10:15 – 10:30 – Introduction to day\n10:30 – 11:15 – FEMAP – Overview & The Latest in FEA\n11:15 – 12:00 – Composites Analysis in Simcenter\n12:00 – 12:15 – Networking break\n12:15 – 13:00 – Managing Simulation in a PDM/PLM Environment (Teamcenter)\n13:00 – 14:00 – Lunch\n14:00 – 15:00 – Land Rover BAR Tour\n15:00 – 15:30 – Networking and Event close\n15:30 – Finish \nWe hope to see you there on the day. \nTerms: \n– Maximum of 2 people from each company\n– 10am is the earliest you can enter the event\, please bare this in mind \n
URL:https://team-eng.com/event/simulation-engineering-live-event/
CATEGORIES:Live event
END:VEVENT
BEGIN:VEVENT
DTSTART;TZID=UTC+0:20171018T100000
DTEND;TZID=UTC+0:20171018T153000
DTSTAMP:20260426T024241
CREATED:20171003T094515Z
LAST-MODIFIED:20171003T094515Z
UID:5212-1508320800-1508340600@team-eng.com
SUMMARY:Simulation in Engineering: Live Event
DESCRIPTION:Simulation in Engineering: Live Event\nDelve deeper into Simulation technologies by attending our Live event held at Land Rover BAR. \nDuring the day we will explore Simulation principles and learn more about the impact each plays in industry. From safety to optimisation\, simulation plays a pivotal role in product development. Industry focused examples will be explored. \nThis event will act as an opportunity to explore what’s new in FEA as we demonstrate the new Femap 11.4 release and show you its powerful analysis tools. We will then delve into composites simulation and finish with how your simulation data can be managed and controlled within a PDM/PLM environment. \nAfter lunch we will then take a 1 hour tour around Land Rover BAR\, the home of the British America’s Cup team giving you a unique behind-the-scenes experience with hands-on interactive experiences\, enabling you to get close to the boats\, people\, and technologies in development that will allow the team to fly faster and sail smarter. \nAGENDA \n10:00 – 10:15 – Arrival\n10:15 – 10:30 – Introduction to day\n10:30 – 11:15 – FEMAP – Overview & The Latest in FEA\n11:15 – 12:00 – Composites Analysis in Simcenter\n12:00 – 12:15 – Networking break\n12:15 – 13:00 – Managing Simulation in a PDM/PLM Environment (Teamcenter)\n13:00 – 14:00 – Lunch\n14:00 – 15:00 – Land Rover BAR Tour\n15:00 – 15:30 – Networking and Event close\n15:30 – Finish \nWe hope to see you there on the day. \nTerms: \n– Maximum of 2 people from each company\n– 10am is the earliest you can enter the event\, please bare this in mind \n
URL:https://team-eng.com/event/simulation-engineering-live-event-2/
CATEGORIES:Live event
END:VEVENT
END:VCALENDAR