BEGIN:VCALENDAR
VERSION:2.0
PRODID:-//TEAM Engineering Ltd - ECPv4.6.26.1//NONSGML v1.0//EN
CALSCALE:GREGORIAN
METHOD:PUBLISH
X-WR-CALNAME:TEAM Engineering Ltd
X-ORIGINAL-URL:https://team-eng.com
X-WR-CALDESC:Events for TEAM Engineering Ltd
BEGIN:VEVENT
DTSTART;TZID=UTC+0:20170929T140000
DTEND;TZID=UTC+0:20170929T143000
DTSTAMP:20260426T024255
CREATED:20170306T165308Z
LAST-MODIFIED:20170306T165308Z
UID:3481-1506693600-1506695400@team-eng.com
SUMMARY:Teamcenter for CAM Webinar
DESCRIPTION:
URL:https://team-eng.com/event/teamcenter-cam-webinar/
CATEGORIES:Webinars
END:VEVENT
BEGIN:VEVENT
DTSTART;TZID=UTC+0:20170929T140000
DTEND;TZID=UTC+0:20170929T143000
DTSTAMP:20260426T024255
CREATED:20170306T165308Z
LAST-MODIFIED:20170306T165308Z
UID:5186-1506693600-1506695400@team-eng.com
SUMMARY:Teamcenter for CAM Webinar
DESCRIPTION:
URL:https://team-eng.com/event/teamcenter-cam-webinar-2/
CATEGORIES:Webinars
END:VEVENT
END:VCALENDAR